BEGIN:VCALENDAR
VERSION:2.0
PRODID:-//Open House Idiomas - ECPv6.15.20//NONSGML v1.0//EN
CALSCALE:GREGORIAN
METHOD:PUBLISH
X-WR-CALNAME:Open House Idiomas
X-ORIGINAL-URL:https://openhouseidiomas.com
X-WR-CALDESC:Eventos para Open House Idiomas
REFRESH-INTERVAL;VALUE=DURATION:PT1H
X-Robots-Tag:noindex
X-PUBLISHED-TTL:PT1H
BEGIN:VTIMEZONE
TZID:UTC
BEGIN:STANDARD
TZOFFSETFROM:+0000
TZOFFSETTO:+0000
TZNAME:UTC
DTSTART:20210101T000000
END:STANDARD
END:VTIMEZONE
BEGIN:VEVENT
DTSTART;TZID=UTC:20221119T080000
DTEND;TZID=UTC:20221119T170000
DTSTAMP:20260423T101613
CREATED:20220908T232825Z
LAST-MODIFIED:20220908T233516Z
UID:4648-1668844800-1668877200@openhouseidiomas.com
SUMMARY:Expo Open House
DESCRIPTION:A nossa antiga Science Fair voltou de cara nova\, vem aí a Expo Open House!Está chegando o evento mais esperado do ano. A Expo Open House\, evento dedicado principalmente aos pais\, onde nossos alunos irão apresentar todo conteúdo aprendido durante o ano todo\, de uma forma bem divertida. Durante o mês de setembro a nossa casa estará aberta para receber os pais e familiares para conferir as apresentações que os nossos alunos estão preparando. \n \n 
URL:https://openhouseidiomas.com/evento/expo-open-house/
LOCATION:Open House Idiomas\, Rua Doutor Oscar Werneck\, 857\, Bebedouro\, São Paulo\, 14701120\, Brasil
CATEGORIES:Evento
ATTACH;FMTTYPE=image/jpeg:https://openhouseidiomas.com/wp-content/uploads/2022/08/WhatsApp-Image-2022-08-18-at-14.21.45.jpeg
ORGANIZER;CN="Open House Idiomas":MAILTO:contato@openhouseidiomas.com
END:VEVENT
END:VCALENDAR